BEGIN:VCALENDAR
VERSION:2.0
PRODID:-//Fairview Area Historical Society - ECPv6.15.20//NONSGML v1.0//EN
CALSCALE:GREGORIAN
METHOD:PUBLISH
X-ORIGINAL-URL:https://fairviewhistory.org
X-WR-CALDESC:Events for Fairview Area Historical Society
REFRESH-INTERVAL;VALUE=DURATION:PT1H
X-Robots-Tag:noindex
X-PUBLISHED-TTL:PT1H
BEGIN:VTIMEZONE
TZID:America/New_York
BEGIN:DAYLIGHT
TZOFFSETFROM:-0500
TZOFFSETTO:-0400
TZNAME:EDT
DTSTART:20250309T070000
END:DAYLIGHT
BEGIN:STANDARD
TZOFFSETFROM:-0400
TZOFFSETTO:-0500
TZNAME:EST
DTSTART:20251102T060000
END:STANDARD
BEGIN:DAYLIGHT
TZOFFSETFROM:-0500
TZOFFSETTO:-0400
TZNAME:EDT
DTSTART:20260308T070000
END:DAYLIGHT
BEGIN:STANDARD
TZOFFSETFROM:-0400
TZOFFSETTO:-0500
TZNAME:EST
DTSTART:20261101T060000
END:STANDARD
BEGIN:DAYLIGHT
TZOFFSETFROM:-0500
TZOFFSETTO:-0400
TZNAME:EDT
DTSTART:20270314T070000
END:DAYLIGHT
BEGIN:STANDARD
TZOFFSETFROM:-0400
TZOFFSETTO:-0500
TZNAME:EST
DTSTART:20271107T060000
END:STANDARD
END:VTIMEZONE
BEGIN:VEVENT
DTSTART;TZID=America/New_York:20260516T083000
DTEND;TZID=America/New_York:20260516T110000
DTSTAMP:20260425T000039
CREATED:20260125T155910Z
LAST-MODIFIED:20260220T021725Z
UID:208055-1778920200-1778929200@fairviewhistory.org
SUMMARY:"Hiding in Plain Sight" - Historic Bus Tour
DESCRIPTION:‘Hiding in Plain Sight” – Fairview History Bus Tour  \nTickets are $15 for Adults\, $10 for Seniors\, students are free. \nThe bus tour will meet in the Fairview High School north parking lot. Traveling through the heart of the old-borough we will make stops at the Fairview Cemetery\, along Dutch Road\, and the Manchester/Walnut Creek area. At several point\, riders will have the option to get out of the bus and walk for the best point of view. \n  \nAdvance tickets can be purchased at the Fairview Area Historical Society website: https://fairviewhistory.org/ Tickets are located in the website’s “Gift Shop” tab. Seats on the bus are limited to 35 total. When ordering tickets complete the reservation form to reserve your seats.  Questions can be directed to stories@fairviewhistory.org. \n  \nProceeds benefit the Fairview Area Historical Society\, and the tour is made possible by the Fairview School Foundation.  \n 
URL:https://fairviewhistory.org/event/hiding-in-plain-sight-bus-tour-ii/
LOCATION:Fairview High School\, 7466 Mccray Rd\, Fairview\, PA\, 16415\, United States
CATEGORIES:Tour
ATTACH;FMTTYPE=image/jpeg:https://fairviewhistory.org/wp-content/uploads/2026/01/TOUR-II-Hiding-in-Plain-Sight.jpg
ORGANIZER;CN="Fairview Area Historical Society":MAILTO:FAHSMail3@Gmail.com
END:VEVENT
END:VCALENDAR