BEGIN:VCALENDAR
VERSION:2.0
PRODID:-//Fairview Area Historical Society - ECPv6.15.20//NONSGML v1.0//EN
CALSCALE:GREGORIAN
METHOD:PUBLISH
X-ORIGINAL-URL:https://fairviewhistory.org
X-WR-CALDESC:Events for Fairview Area Historical Society
REFRESH-INTERVAL;VALUE=DURATION:PT1H
X-Robots-Tag:noindex
X-PUBLISHED-TTL:PT1H
BEGIN:VTIMEZONE
TZID:America/New_York
BEGIN:DAYLIGHT
TZOFFSETFROM:-0500
TZOFFSETTO:-0400
TZNAME:EDT
DTSTART:20210314T070000
END:DAYLIGHT
BEGIN:STANDARD
TZOFFSETFROM:-0400
TZOFFSETTO:-0500
TZNAME:EST
DTSTART:20211107T060000
END:STANDARD
BEGIN:DAYLIGHT
TZOFFSETFROM:-0500
TZOFFSETTO:-0400
TZNAME:EDT
DTSTART:20220313T070000
END:DAYLIGHT
BEGIN:STANDARD
TZOFFSETFROM:-0400
TZOFFSETTO:-0500
TZNAME:EST
DTSTART:20221106T060000
END:STANDARD
BEGIN:DAYLIGHT
TZOFFSETFROM:-0500
TZOFFSETTO:-0400
TZNAME:EDT
DTSTART:20230312T070000
END:DAYLIGHT
BEGIN:STANDARD
TZOFFSETFROM:-0400
TZOFFSETTO:-0500
TZNAME:EST
DTSTART:20231105T060000
END:STANDARD
BEGIN:DAYLIGHT
TZOFFSETFROM:-0500
TZOFFSETTO:-0400
TZNAME:EDT
DTSTART:20240310T070000
END:DAYLIGHT
BEGIN:STANDARD
TZOFFSETFROM:-0400
TZOFFSETTO:-0500
TZNAME:EST
DTSTART:20241103T060000
END:STANDARD
BEGIN:DAYLIGHT
TZOFFSETFROM:-0500
TZOFFSETTO:-0400
TZNAME:EDT
DTSTART:20250309T070000
END:DAYLIGHT
BEGIN:STANDARD
TZOFFSETFROM:-0400
TZOFFSETTO:-0500
TZNAME:EST
DTSTART:20251102T060000
END:STANDARD
BEGIN:DAYLIGHT
TZOFFSETFROM:-0500
TZOFFSETTO:-0400
TZNAME:EDT
DTSTART:20260308T070000
END:DAYLIGHT
BEGIN:STANDARD
TZOFFSETFROM:-0400
TZOFFSETTO:-0500
TZNAME:EST
DTSTART:20261101T060000
END:STANDARD
END:VTIMEZONE
BEGIN:VEVENT
DTSTART;TZID=America/New_York:20250913T130000
DTEND;TZID=America/New_York:20250913T150000
DTSTAMP:20260424T235805
CREATED:20250827T055312Z
LAST-MODIFIED:20250827T055921Z
UID:207738-1757768400-1757775600@fairviewhistory.org
SUMMARY:Hiding in Plain Sight History Tour – Afternoon
DESCRIPTION:Step into some of the history of Fairview Township on a guided bus tour with stops at the Fairview Cemetery\, the Erie Extension Canal Aqueduct\, the mouth of Walnut Creek\, and the Manchester area. \nOnly $10\, Free for students K-12! \nWe look forward to sharing the stories of this place we call home. \nClick for Details and Tickets: \nhttps://fairviewhistory.org/hiding-in-plain-sight-history-tour/
URL:https://fairviewhistory.org/event/hiding-in-plain-sight-history-tour-morning-2/
LOCATION:Fairview High School\, 7466 Mccray Rd\, Fairview\, PA\, 16415\, United States
CATEGORIES:Tour
ATTACH;FMTTYPE=image/png:https://fairviewhistory.org/wp-content/uploads/2025/08/HIDING-IN-PLAIN-SIGHT-4ChatGPT-Image-Aug-17-2025-03_41_19-PM-002.png
ORGANIZER;CN="Fairview Area Historical Society":MAILTO:FAHSMail3@Gmail.com
END:VEVENT
BEGIN:VEVENT
DTSTART;TZID=America/New_York:20250913T093000
DTEND;TZID=America/New_York:20250913T233000
DTSTAMP:20260424T235805
CREATED:20250827T055334Z
LAST-MODIFIED:20250827T055836Z
UID:207739-1757755800-1757806200@fairviewhistory.org
SUMMARY:Hiding in Plain Sight History Tour – Morning
DESCRIPTION:Step into some of the history of Fairview Township on a guided bus tour with stops at the Fairview Cemetery\, the Erie Extension Canal Aqueduct\, the mouth of Walnut Creek\, and the Manchester area. \nOnly $10\, Free for students K-12! \nWe look forward to sharing the stories of this place we call home. \nClick for Details and Tickets: \nhttps://fairviewhistory.org/hiding-in-plain-sight-history-tour/
URL:https://fairviewhistory.org/event/hiding-in-plain-sight-history-tour-morning/
LOCATION:Fairview High School\, 7466 Mccray Rd\, Fairview\, PA\, 16415\, United States
CATEGORIES:Tour
ATTACH;FMTTYPE=image/jpeg:https://fairviewhistory.org/wp-content/uploads/2025/08/HIDING-IN-PLAIN-SIGHT-5ChatGPT-Image-Aug-17-2025-03_48_01-PM-002.jpg
ORGANIZER;CN="Fairview Area Historical Society":MAILTO:FAHSMail3@Gmail.com
END:VEVENT
BEGIN:VEVENT
DTSTART;TZID=America/New_York:20220630T140000
DTEND;TZID=America/New_York:20220630T150000
DTSTAMP:20260424T235805
CREATED:20220513T184654Z
LAST-MODIFIED:20220516T060149Z
UID:207392-1656597600-1656601200@fairviewhistory.org
SUMMARY:Cemetery Tour to Vietnam Veteran's Gravesites
DESCRIPTION:Last year the historical society tried something new… a tour in the lovely Fairview Cemetery to gravesites of 12 World War I veterans.  The outdoor event was free of Covid fears and this year we are trying it again.  This year we will visit 10 or 12 gravesites of Vietnam veterans in June.   \nThe date is yet to be set\, but Sundays appear to be the best day to tour and around 2 p.m. is a good time to start.  We will be walking\, so wear comfortable shoes.   \nThis program will be free\, but registration will be required.  Call the Sturgeon House\, 814-474-5855 to register.  Watch this space for more information. \nNote:  The date listed above is not Sunday\, nor is it the date of the tour.  That is to be scheduled.
URL:https://fairviewhistory.org/event/cemetery-tour-to-vietnam-veterans-gravesites/
LOCATION:Fairview Cemetery\, 7800 Maple St\, Fairview\, PA\, 16415\, United States
CATEGORIES:Anniversary Commemoration,Tour
ATTACH;FMTTYPE=image/jpeg:https://fairviewhistory.org/wp-content/uploads/2021/10/WW1.jpg
END:VEVENT
END:VCALENDAR