BEGIN:VCALENDAR
VERSION:2.0
PRODID:-//Fairview Area Historical Society - ECPv6.15.20//NONSGML v1.0//EN
CALSCALE:GREGORIAN
METHOD:PUBLISH
X-ORIGINAL-URL:https://fairviewhistory.org
X-WR-CALDESC:Events for Fairview Area Historical Society
REFRESH-INTERVAL;VALUE=DURATION:PT1H
X-Robots-Tag:noindex
X-PUBLISHED-TTL:PT1H
BEGIN:VTIMEZONE
TZID:America/New_York
BEGIN:DAYLIGHT
TZOFFSETFROM:-0500
TZOFFSETTO:-0400
TZNAME:EDT
DTSTART:20240310T070000
END:DAYLIGHT
BEGIN:STANDARD
TZOFFSETFROM:-0400
TZOFFSETTO:-0500
TZNAME:EST
DTSTART:20241103T060000
END:STANDARD
BEGIN:DAYLIGHT
TZOFFSETFROM:-0500
TZOFFSETTO:-0400
TZNAME:EDT
DTSTART:20250309T070000
END:DAYLIGHT
BEGIN:STANDARD
TZOFFSETFROM:-0400
TZOFFSETTO:-0500
TZNAME:EST
DTSTART:20251102T060000
END:STANDARD
BEGIN:DAYLIGHT
TZOFFSETFROM:-0500
TZOFFSETTO:-0400
TZNAME:EDT
DTSTART:20260308T070000
END:DAYLIGHT
BEGIN:STANDARD
TZOFFSETFROM:-0400
TZOFFSETTO:-0500
TZNAME:EST
DTSTART:20261101T060000
END:STANDARD
END:VTIMEZONE
BEGIN:VEVENT
DTSTART;TZID=America/New_York:20250911T180000
DTEND;TZID=America/New_York:20250911T193000
DTSTAMP:20260425T061935
CREATED:20250903T003602Z
LAST-MODIFIED:20250903T003602Z
UID:207762-1757613600-1757619000@fairviewhistory.org
SUMMARY:Fairview and Girard Jointure
DESCRIPTION:Homecoming weekend for the Fairview Tigers brings unique local experiences for families and alumni.  \nThe Fairview Area Historical Society will be open\, featuring TWO displays. \nCome find out about the merger that didn’t happen. \nDid you know Fairview and Girard schools ALMOST combined into ONE school district in 1968? \nYes\, the story of the Lake Erie Vikings\, the High School that almost was. \nAdditionally\, school and school sports memorabilia will be on display. 
URL:https://fairviewhistory.org/event/fairview-and-girard-jointure-2/
LOCATION:Sturgeon House\, 4302 Avonia Road\, Fairview\, PA\, 16415\, United States
CATEGORIES:New Exhibit,Open House
ATTACH;FMTTYPE=image/png:https://fairviewhistory.org/wp-content/uploads/2025/09/Screenshot-2025-09-02-173022.png
ORGANIZER;CN="Fairview Area Historical Society":MAILTO:FAHSMail3@Gmail.com
END:VEVENT
BEGIN:VEVENT
DTSTART;TZID=America/New_York:20250907T120000
DTEND;TZID=America/New_York:20250907T160000
DTSTAMP:20260425T061935
CREATED:20250903T003510Z
LAST-MODIFIED:20250903T003510Z
UID:207759-1757246400-1757260800@fairviewhistory.org
SUMMARY:Fairview and Girard Jointure
DESCRIPTION:Homecoming weekend for the Fairview Tigers brings unique local experiences for families and alumni.  \nThe Fairview Area Historical Society will be open\, featuring TWO displays. \nCome find out about the merger that didn’t happen. \nDid you know Fairview and Girard schools ALMOST combined into ONE school district in 1968? \nYes\, the story of the Lake Erie Vikings\, the High School that almost was. \nAdditionally\, school and school sports memorabilia will be on display. 
URL:https://fairviewhistory.org/event/fairview-and-girard-jointure/
LOCATION:Sturgeon House\, 4302 Avonia Road\, Fairview\, PA\, 16415\, United States
CATEGORIES:New Exhibit
ATTACH;FMTTYPE=image/png:https://fairviewhistory.org/wp-content/uploads/2025/09/Screenshot-2025-09-02-173022.png
ORGANIZER;CN="Fairview Area Historical Society":MAILTO:FAHSMail3@Gmail.com
END:VEVENT
END:VCALENDAR