BEGIN:VCALENDAR
VERSION:2.0
PRODID:-//Fairview Area Historical Society - ECPv6.15.20//NONSGML v1.0//EN
CALSCALE:GREGORIAN
METHOD:PUBLISH
X-WR-CALNAME:Fairview Area Historical Society
X-ORIGINAL-URL:https://fairviewhistory.org
X-WR-CALDESC:Events for Fairview Area Historical Society
REFRESH-INTERVAL;VALUE=DURATION:PT1H
X-Robots-Tag:noindex
X-PUBLISHED-TTL:PT1H
BEGIN:VTIMEZONE
TZID:America/New_York
BEGIN:DAYLIGHT
TZOFFSETFROM:-0500
TZOFFSETTO:-0400
TZNAME:EDT
DTSTART:20250309T070000
END:DAYLIGHT
BEGIN:STANDARD
TZOFFSETFROM:-0400
TZOFFSETTO:-0500
TZNAME:EST
DTSTART:20251102T060000
END:STANDARD
BEGIN:DAYLIGHT
TZOFFSETFROM:-0500
TZOFFSETTO:-0400
TZNAME:EDT
DTSTART:20260308T070000
END:DAYLIGHT
BEGIN:STANDARD
TZOFFSETFROM:-0400
TZOFFSETTO:-0500
TZNAME:EST
DTSTART:20261101T060000
END:STANDARD
BEGIN:DAYLIGHT
TZOFFSETFROM:-0500
TZOFFSETTO:-0400
TZNAME:EDT
DTSTART:20270314T070000
END:DAYLIGHT
BEGIN:STANDARD
TZOFFSETFROM:-0400
TZOFFSETTO:-0500
TZNAME:EST
DTSTART:20271107T060000
END:STANDARD
END:VTIMEZONE
BEGIN:VEVENT
DTSTART;TZID=America/New_York:20261205T100000
DTEND;TZID=America/New_York:20261205T160000
DTSTAMP:20260424T115443
CREATED:20260102T232907Z
LAST-MODIFIED:20260102T232907Z
UID:207936-1796464800-1796486400@fairviewhistory.org
SUMMARY:45th Annual - Christmas Open House
DESCRIPTION:
URL:https://fairviewhistory.org/event/45th-annual-christmas-open-house/
CATEGORIES:Holiday,Open House
ATTACH;FMTTYPE=image/jpeg:https://fairviewhistory.org/wp-content/uploads/2026/01/Christmas-Yard-Signs-FAHS.jpg
END:VEVENT
BEGIN:VEVENT
DTSTART;TZID=America/New_York:20261206T120000
DTEND;TZID=America/New_York:20261206T160000
DTSTAMP:20260424T115443
CREATED:20260102T233119Z
LAST-MODIFIED:20260102T233119Z
UID:207941-1796558400-1796572800@fairviewhistory.org
SUMMARY:45th Annual - Christmas Open House
DESCRIPTION:
URL:https://fairviewhistory.org/event/45th-annual-christmas-open-house-2/
CATEGORIES:Holiday,Open House
ATTACH;FMTTYPE=image/jpeg:https://fairviewhistory.org/wp-content/uploads/2026/01/Christmas-Yard-Signs-FAHS.jpg
END:VEVENT
END:VCALENDAR