BEGIN:VCALENDAR
VERSION:2.0
PRODID:-//Fairview Area Historical Society - ECPv6.15.20//NONSGML v1.0//EN
CALSCALE:GREGORIAN
METHOD:PUBLISH
X-ORIGINAL-URL:https://fairviewhistory.org
X-WR-CALDESC:Events for Fairview Area Historical Society
REFRESH-INTERVAL;VALUE=DURATION:PT1H
X-Robots-Tag:noindex
X-PUBLISHED-TTL:PT1H
BEGIN:VTIMEZONE
TZID:America/New_York
BEGIN:DAYLIGHT
TZOFFSETFROM:-0500
TZOFFSETTO:-0400
TZNAME:EDT
DTSTART:20240310T070000
END:DAYLIGHT
BEGIN:STANDARD
TZOFFSETFROM:-0400
TZOFFSETTO:-0500
TZNAME:EST
DTSTART:20241103T060000
END:STANDARD
BEGIN:DAYLIGHT
TZOFFSETFROM:-0500
TZOFFSETTO:-0400
TZNAME:EDT
DTSTART:20250309T070000
END:DAYLIGHT
BEGIN:STANDARD
TZOFFSETFROM:-0400
TZOFFSETTO:-0500
TZNAME:EST
DTSTART:20251102T060000
END:STANDARD
BEGIN:DAYLIGHT
TZOFFSETFROM:-0500
TZOFFSETTO:-0400
TZNAME:EDT
DTSTART:20260308T070000
END:DAYLIGHT
BEGIN:STANDARD
TZOFFSETFROM:-0400
TZOFFSETTO:-0500
TZNAME:EST
DTSTART:20261101T060000
END:STANDARD
END:VTIMEZONE
BEGIN:VEVENT
DTSTART;TZID=America/New_York:20251206T100000
DTEND;TZID=America/New_York:20251206T160000
DTSTAMP:20260424T182032
CREATED:20251202T044819Z
LAST-MODIFIED:20251202T044819Z
UID:207783-1765015200-1765036800@fairviewhistory.org
SUMMARY:44th Annual Christmas Open House
DESCRIPTION:Our 19th-century era Sturgeon House will be beautifully decorated for the holidays. \nThe Misery Bay Dulcimers will provide live holiday music. \nEnjoy some warm wassail by the fire as the kids make a seasonal craft. \nThis is the perfect opportunity to support the society. \n\nYou can pick up your pre-ordered fresh wreaths.\nYou can buy a raffle ticket with a chance to win a $250 Gift Card for Madeline’s Restaurant.\nYou can become a member of the society or renew your membership for 2026.\n\nYou can also purchase a customized etched brick to support our 50th/250th Celebrations. \nThe Founders Time Capsule honors the dedicated Fairview citizens who have told the community’s story for the last 50 years. \nThe time capsule will be opened in 2076\, in anticipation of the next group of Fairview history keepers. \nThe Freedom Bell project is in conjunction with the America250 Celebration. \nA bell will be set on the Sturgeon House property\, and it will ring for two minutes on July 4th\, 2026\, in celebration of the country’s 250th Birthday\, marked by the signing of the Declaration of Independence. \nPurchasing a customized brick supports the joint projects!
URL:https://fairviewhistory.org/event/44th-annual-christmas-open-house/
LOCATION:Sturgeon House\, 4302 Avonia Road\, Fairview\, PA\, 16415\, United States
CATEGORIES:Christmas Season Event,Holiday,Open House
ATTACH;FMTTYPE=image/jpeg:https://fairviewhistory.org/wp-content/uploads/2025/12/A-cozy-snow-covered-.jpg
ORGANIZER;CN="Fairview Area Historical Society":MAILTO:FAHSMail3@Gmail.com
END:VEVENT
BEGIN:VEVENT
DTSTART;TZID=America/New_York:20251207T120000
DTEND;TZID=America/New_York:20251207T160000
DTSTAMP:20260424T182032
CREATED:20251202T044905Z
LAST-MODIFIED:20251202T044905Z
UID:207793-1765108800-1765123200@fairviewhistory.org
SUMMARY:44th Annual Christmas Open House
DESCRIPTION:Our 19th-century era Sturgeon House will be beautifully decorated for the holidays. \nThe Misery Bay Dulcimers will provide live holiday music. \nEnjoy some warm wassail by the fire as the kids make a seasonal craft. \nThis is the perfect opportunity to support the society. \n\nYou can pick up your pre-ordered fresh wreaths.\nYou can buy a raffle ticket with a chance to win a $250 Gift Card for Madeline’s Restaurant.\nYou can become a member of the society or renew your membership for 2026.\n\nYou can also purchase a customized etched brick to support our 50th/250th Celebrations. \nThe Founders Time Capsule honors the dedicated Fairview citizens who have told the community’s story for the last 50 years. \nThe time capsule will be opened in 2076\, in anticipation of the next group of Fairview history keepers. \nThe Freedom Bell project is in conjunction with the America250 Celebration. \nA bell will be set on the Sturgeon House property\, and it will ring for two minutes on July 4th\, 2026\, in celebration of the country’s 250th Birthday\, marked by the signing of the Declaration of Independence. \nPurchasing a customized brick supports the joint projects!
URL:https://fairviewhistory.org/event/44th-annual-christmas-open-house-2/
LOCATION:Sturgeon House\, 4302 Avonia Road\, Fairview\, PA\, 16415\, United States
CATEGORIES:Christmas Season Event,Holiday,Open House
ATTACH;FMTTYPE=image/jpeg:https://fairviewhistory.org/wp-content/uploads/2025/12/A-cozy-snow-covered-.jpg
ORGANIZER;CN="Fairview Area Historical Society":MAILTO:FAHSMail3@Gmail.com
END:VEVENT
END:VCALENDAR